BEGIN:VCALENDAR
VERSION:2.0
PRODID:-//Etkinlikler Bodrum - ECPv6.15.12.2//NONSGML v1.0//EN
CALSCALE:GREGORIAN
METHOD:PUBLISH
X-WR-CALNAME:Etkinlikler Bodrum
X-ORIGINAL-URL:https://www.etkinliklerbodrum.com
X-WR-CALDESC:Events for Etkinlikler Bodrum
REFRESH-INTERVAL;VALUE=DURATION:PT1H
X-Robots-Tag:noindex
X-PUBLISHED-TTL:PT1H
BEGIN:VTIMEZONE
TZID:UTC
BEGIN:STANDARD
TZOFFSETFROM:+0000
TZOFFSETTO:+0000
TZNAME:UTC
DTSTART:20250101T000000
END:STANDARD
END:VTIMEZONE
BEGIN:VEVENT
DTSTART;VALUE=DATE:20260101
DTEND;VALUE=DATE:20260311
DTSTAMP:20260420T215543
CREATED:20240109T044901Z
LAST-MODIFIED:20260122T212528Z
UID:224-1767225600-1773187199@www.etkinliklerbodrum.com
SUMMARY:Summer Movies in the Park
DESCRIPTION:Tree lighting ceremony				\n				\n					8:00am - 10:00am				\n					\n				\n		\n					\n				\n									Tree lighting ceremonyJoin us for an enchanting evening dedicated to making a difference! Our Annual Charity Gala\, “A Night of Giving\,” is an elegant affair aimed at supporting local community initiatives. 								\n					\n				\n		\n					\n				\n					Anaheim Ducks Day				\n				\n					10:00am - 12:00am				\n		\n					\n				\n									Indulge in a night of glamour and purpose as we gather for a noble cause. The evening will be filled with live music\, delightful cuisine\, captivating performances\, and an exciting silent auction featuring unique items generously donated by local businesses and sponsors. 								\n				\n					Winter Wonderland toy				\n				\n					01:00pm - 05:00pm				\n				\n									Indulge in a night of glamour and purpose as we gather for a noble cause. The evening will be filled with live music\, delightful cuisine\, captivating performances\, and an exciting silent auction featuring unique items generously donated by local businesses and sponsors. 								\n					\n				\n					\n				\n		\n					\n				\n					FAQ				\n				\n							\n							\n					\n													\n															\n								\n														\n												Are tickets refundable or transferable?\n					\n					Tickets are non-refundable but may be transferable. Please contact us directly for any ticket transfer requests. \n				\n							\n					\n													\n															\n								\n														\n												Is there parking available at the venue?\n					\n					Yes\, there will be designated parking areas at the venue. Valet services might also be available. \n				\n							\n					\n													\n															\n								\n														\n												Can dietary restrictions or allergies be accommodated?\n					\n					We aim to accommodate dietary restrictions. Please inform us in advance by contacting our team to ensure appropriate arrangements. \n				\n							\n					\n													\n															\n								\n														\n												How can I become a sponsor or volunteer for the event?\n					\n					We appreciate your interest in supporting our event! Please contact [Organizer’s Name] at [Phone Number] or [Email Address] for sponsorship or volunteer opportunities. \n				\n							\n					\n													\n															\n								\n														\n												Are there nearby accommodations for out-of-town guests?\n					\n					We have partnered with nearby hotels to offer discounted rates for event attendees. Please visit our event website for more information on accommodation options.
URL:https://www.etkinliklerbodrum.com/event/summer-movies-in-the-park/
LOCATION:B.B Şevket Sabancı Kültür ve Sanat Merkezi\, Yalı Mahallesi\, Gazi Mustafa Kemal Blv.\, 48960 Turgutreis Belediyesi\, Turgutreis\,Bodrum\, Turgutreis\, 48960\, Turkey
CATEGORIES:Kültür & Sanat
ATTACH;FMTTYPE=image/jpeg:https://www.etkinliklerbodrum.com/wp-content/uploads/2026/01/63453f.jpg
END:VEVENT
END:VCALENDAR